

BEGIN:VCALENDAR
VERSION:2.0
PRODID:ROCKHAL
BEGIN:VEVENT
UID:5411
DTSTAMP:20180718T190000
DTSTART:20180718T190000
DTEND:20180718T223000
SUMMARY:GENE SIMMONS BAND
CLASS:PUBLIC
TRANSP:TRANSPARENT
END:VEVENT
END:VCALENDAR