

BEGIN:VCALENDAR
VERSION:2.0
PRODID:ROCKHAL
BEGIN:VEVENT
UID:5572
DTSTAMP:20190320T200000
DTSTART:20190320T200000
DTEND:20190320T233000
SUMMARY:NICKI MINAJ & FUTURE
CLASS:PUBLIC
TRANSP:TRANSPARENT
END:VEVENT
END:VCALENDAR