

BEGIN:VCALENDAR
VERSION:2.0
PRODID:ROCKHAL
BEGIN:VEVENT
UID:5587
DTSTAMP:20181207T213000
DTSTART:20181207T213000
DTEND:20181208T010000
SUMMARY:ALAN WALKER
CLASS:PUBLIC
TRANSP:TRANSPARENT
END:VEVENT
END:VCALENDAR