

BEGIN:VCALENDAR
VERSION:2.0
PRODID:ROCKHAL
BEGIN:VEVENT
UID:5506
DTSTAMP:20180710T203000
DTSTART:20180710T203000
DTEND:20180711T000000
SUMMARY:ARCH ENEMY
CLASS:PUBLIC
TRANSP:TRANSPARENT
END:VEVENT
END:VCALENDAR