

BEGIN:VCALENDAR
VERSION:2.0
PRODID:ROCKHAL
BEGIN:VEVENT
UID:5540
DTSTAMP:20181107T200000
DTSTART:20181107T200000
DTEND:20181107T233000
SUMMARY:BULLET FOR MY VALENTINE
CLASS:PUBLIC
TRANSP:TRANSPARENT
END:VEVENT
END:VCALENDAR