

BEGIN:VCALENDAR
VERSION:2.0
PRODID:ROCKHAL
BEGIN:VEVENT
UID:5569
DTSTAMP:20180923T200000
DTSTART:20180923T200000
DTEND:20180923T233000
SUMMARY:DEAFHEAVEN + INTER ARMA
CLASS:PUBLIC
TRANSP:TRANSPARENT
END:VEVENT
END:VCALENDAR