

BEGIN:VCALENDAR
VERSION:2.0
PRODID:ROCKHAL
BEGIN:VEVENT
UID:5552
DTSTAMP:20181216T110000
DTSTART:20181216T110000
DTEND:20181216T143000
SUMMARY:17th INTERNATIONAL RECORD FAIR
CLASS:PUBLIC
TRANSP:TRANSPARENT
END:VEVENT
END:VCALENDAR