BEGIN:VCALENDAR
VERSION:2.0
PRODID:ROCKHAL
BEGIN:VEVENT
UID:5520
DTSTAMP:20180708T200000
DTSTART:20180708T200000
DTEND:20180708T233000
SUMMARY:BEN HOWARD
CLASS:PUBLIC
TRANSP:TRANSPARENT
END:VEVENT
END:VCALENDAR