

BEGIN:VCALENDAR
VERSION:2.0
PRODID:ROCKHAL
BEGIN:VEVENT
UID:5584
DTSTAMP:20190302T190000
DTSTART:20190302T190000
DTEND:20190302T223000
SUMMARY:BLUE MAN GROUP
CLASS:PUBLIC
TRANSP:TRANSPARENT
END:VEVENT
END:VCALENDAR