

BEGIN:VCALENDAR
VERSION:2.0
PRODID:ROCKHAL
BEGIN:VEVENT
UID:5583
DTSTAMP:20190301T190000
DTSTART:20190301T190000
DTEND:20190301T223000
SUMMARY:BLUE MAN GROUP
CLASS:PUBLIC
TRANSP:TRANSPARENT
END:VEVENT
END:VCALENDAR