

BEGIN:VCALENDAR
VERSION:2.0
PRODID:ROCKHAL
BEGIN:VEVENT
UID:5585
DTSTAMP:20190303T190000
DTSTART:20190303T190000
DTEND:20190303T223000
SUMMARY:BLUE MAN GROUP
CLASS:PUBLIC
TRANSP:TRANSPARENT
END:VEVENT
END:VCALENDAR