

BEGIN:VCALENDAR
VERSION:2.0
PRODID:ROCKHAL
BEGIN:VEVENT
UID:5497
DTSTAMP:20190208T200000
DTSTART:20190208T200000
DTEND:20190208T233000
SUMMARY:CATS - FRIDAY - 20.00
CLASS:PUBLIC
TRANSP:TRANSPARENT
END:VEVENT
END:VCALENDAR