

BEGIN:VCALENDAR
VERSION:2.0
PRODID:ROCKHAL
BEGIN:VEVENT
UID:5498
DTSTAMP:20190209T150000
DTSTART:20190209T150000
DTEND:20190209T183000
SUMMARY:CATS - SATURDAY - 15:00
CLASS:PUBLIC
TRANSP:TRANSPARENT
END:VEVENT
END:VCALENDAR