

BEGIN:VCALENDAR
VERSION:2.0
PRODID:ROCKHAL
BEGIN:VEVENT
UID:5500
DTSTAMP:20190210T150000
DTSTART:20190210T150000
DTEND:20190210T183000
SUMMARY:CATS - SUNDAY - 14:00
CLASS:PUBLIC
TRANSP:TRANSPARENT
END:VEVENT
END:VCALENDAR