

BEGIN:VCALENDAR
VERSION:2.0
PRODID:ROCKHAL
BEGIN:VEVENT
UID:5496
DTSTAMP:20190207T200000
DTSTART:20190207T200000
DTEND:20190207T233000
SUMMARY:CATS - THURSDAY - 20:00
CLASS:PUBLIC
TRANSP:TRANSPARENT
END:VEVENT
END:VCALENDAR