

BEGIN:VCALENDAR
VERSION:2.0
PRODID:ROCKHAL
BEGIN:VEVENT
UID:5493
DTSTAMP:20190205T200000
DTSTART:20190205T200000
DTEND:20190205T233000
SUMMARY:CATS - TUESDAY - 20:00
CLASS:PUBLIC
TRANSP:TRANSPARENT
END:VEVENT
END:VCALENDAR