

BEGIN:VCALENDAR
VERSION:2.0
PRODID:ROCKHAL
BEGIN:VEVENT
UID:5551
DTSTAMP:20181129T203000
DTSTART:20181129T203000
DTEND:20181130T000000
SUMMARY:COLUMBINE
CLASS:PUBLIC
TRANSP:TRANSPARENT
END:VEVENT
END:VCALENDAR