

BEGIN:VCALENDAR
VERSION:2.0
PRODID:ROCKHAL
BEGIN:VEVENT
UID:5415
DTSTAMP:20180415T110000
DTSTART:20180415T110000
DTEND:20180415T143000
SUMMARY:SNEAKERMESS
CLASS:PUBLIC
TRANSP:TRANSPARENT
END:VEVENT
END:VCALENDAR