

BEGIN:VCALENDAR
VERSION:2.0
PRODID:ROCKHAL
BEGIN:VEVENT
UID:5386
DTSTAMP:20181013T190000
DTSTART:20181013T190000
DTEND:20181013T223000
SUMMARY:CALOGERO
CLASS:PUBLIC
TRANSP:TRANSPARENT
END:VEVENT
END:VCALENDAR