

BEGIN:VCALENDAR
VERSION:2.0
PRODID:ROCKHAL
BEGIN:VEVENT
UID:5451
DTSTAMP:20180630T170000
DTSTART:20180630T170000
DTEND:20180630T203000
SUMMARY:STING & SHAGGY - Open Air Belval
CLASS:PUBLIC
TRANSP:TRANSPARENT
END:VEVENT
END:VCALENDAR