BEGIN:VCALENDAR
VERSION:2.0
PRODID:ROCKHAL
BEGIN:VEVENT
UID:4784
DTSTAMP:20160702T220000
DTSTART:20160702T220000
DTEND:20160703T013000
SUMMARY:PATTI SMITH AND HER BAND PERFORMING "HORSES"
CLASS:PUBLIC
TRANSP:TRANSPARENT
END:VEVENT
END:VCALENDAR