BEGIN:VCALENDAR
VERSION:2.0
PRODID:ROCKHAL
BEGIN:VEVENT
UID:4100
DTSTAMP:20150403T230000
DTSTART:20150403T230000
DTEND:20150404T023000
SUMMARY:JEFF MILLS - 3 HOURS DJ SET
CLASS:PUBLIC
TRANSP:TRANSPARENT
END:VEVENT
END:VCALENDAR