BEGIN:VCALENDAR
VERSION:2.0
PRODID:ROCKHAL
BEGIN:VEVENT
UID:6249
DTSTAMP:20220415T193000
DTSTART:20220415T193000
DTEND:20220415T230000
SUMMARY:CONCEPTION
CLASS:PUBLIC
TRANSP:TRANSPARENT
END:VEVENT
END:VCALENDAR