BEGIN:VCALENDAR
VERSION:2.0
PRODID:ROCKHAL
BEGIN:VEVENT
UID:6423
DTSTAMP:20221002T190000
DTSTART:20221002T190000
DTEND:20221002T223000
SUMMARY:CULT OF LUNA + CASPIAN + HOLY FAWN
CLASS:PUBLIC
TRANSP:TRANSPARENT
END:VEVENT
END:VCALENDAR