BEGIN:VCALENDAR
VERSION:2.0
PRODID:ROCKHAL
BEGIN:VEVENT
UID:6538
DTSTAMP:20210720T200000
DTSTART:20210720T200000
DTEND:20210720T233000
SUMMARY:ROCKLAB SESSIONS - S01E10 - BENOIT MARTINY BAND
CLASS:PUBLIC
TRANSP:TRANSPARENT
END:VEVENT
END:VCALENDAR