BEGIN:VCALENDAR
VERSION:2.0
PRODID:ROCKHAL
BEGIN:VEVENT
UID:6380
DTSTAMP:20211025T200000
DTSTART:20211025T200000
DTEND:20211025T233000
SUMMARY:BRASS AGAINST
CLASS:PUBLIC
TRANSP:TRANSPARENT
END:VEVENT
END:VCALENDAR