BEGIN:VCALENDAR
VERSION:2.0
PRODID:ROCKHAL
BEGIN:VEVENT
UID:6570
DTSTAMP:20210823T190000
DTSTART:20210823T190000
DTEND:20210823T223000
SUMMARY:DINOSAUR INVASION / 04.07 - 09.09.2021
CLASS:PUBLIC
TRANSP:TRANSPARENT
END:VEVENT
END:VCALENDAR