BEGIN:VCALENDAR
VERSION:2.0
PRODID:ROCKHAL
BEGIN:VEVENT
UID:6305
DTSTAMP:20221006T200000
DTSTART:20221006T200000
DTEND:20221006T233000
SUMMARY:DUB INC
CLASS:PUBLIC
TRANSP:TRANSPARENT
END:VEVENT
END:VCALENDAR