BEGIN:VCALENDAR
VERSION:2.0
PRODID:ROCKHAL
BEGIN:VEVENT
UID:6307
DTSTAMP:20211216T200000
DTSTART:20211216T200000
DTEND:20211216T233000
SUMMARY:GAËL FAYE
CLASS:PUBLIC
TRANSP:TRANSPARENT
END:VEVENT
END:VCALENDAR