BEGIN:VCALENDAR
VERSION:2.0
PRODID:ROCKHAL
BEGIN:VEVENT
UID:3725
DTSTAMP:20150117T210000
DTSTART:20150117T210000
DTEND:20150118T003000
SUMMARY:PEDRO ABRUNHOSA
CLASS:PUBLIC
TRANSP:TRANSPARENT
END:VEVENT
END:VCALENDAR