BEGIN:VCALENDAR
VERSION:2.0
PRODID:ROCKHAL
BEGIN:VEVENT
UID:4079
DTSTAMP:20150310T200000
DTSTART:20150310T200000
DTEND:20150310T233000
SUMMARY:SCOTT BRADLEE & POSTMODERN JUKEBOX
CLASS:PUBLIC
TRANSP:TRANSPARENT
END:VEVENT
END:VCALENDAR