BEGIN:VCALENDAR
VERSION:2.0
PRODID:ROCKHAL
BEGIN:VEVENT
UID:6350
DTSTAMP:20220304T190000
DTSTART:20220304T190000
DTEND:20220304T223000
SUMMARY:AMY MACDONALD
CLASS:PUBLIC
TRANSP:TRANSPARENT
END:VEVENT
END:VCALENDAR