BEGIN:VCALENDAR
VERSION:2.0
PRODID:ROCKHAL
BEGIN:VEVENT
UID:3901
DTSTAMP:20150309T200000
DTSTART:20150309T200000
DTEND:20150309T233000
SUMMARY:ASA
CLASS:PUBLIC
TRANSP:TRANSPARENT
END:VEVENT
END:VCALENDAR