BEGIN:VCALENDAR
VERSION:2.0
PRODID:ROCKHAL
BEGIN:VEVENT
UID:6339
DTSTAMP:20220306T190000
DTSTART:20220306T190000
DTEND:20220306T223000
SUMMARY:BIFFY CLYRO
CLASS:PUBLIC
TRANSP:TRANSPARENT
END:VEVENT
END:VCALENDAR