BEGIN:VCALENDAR
VERSION:2.0
PRODID:ROCKHAL
BEGIN:VEVENT
UID:6363
DTSTAMP:20211104T190000
DTSTART:20211104T190000
DTEND:20211104T223000
SUMMARY:BRIT FLOYD
CLASS:PUBLIC
TRANSP:TRANSPARENT
END:VEVENT
END:VCALENDAR