BEGIN:VCALENDAR
VERSION:2.0
PRODID:ROCKHAL
BEGIN:VEVENT
UID:4049
DTSTAMP:20150307T200000
DTSTART:20150307T200000
DTEND:20150307T233000
SUMMARY:CATS ON TREES
CLASS:PUBLIC
TRANSP:TRANSPARENT
END:VEVENT
END:VCALENDAR