BEGIN:VCALENDAR
VERSION:2.0
PRODID:ROCKHAL
BEGIN:VEVENT
UID:3957
DTSTAMP:20150428T200000
DTSTART:20150428T200000
DTEND:20150428T233000
SUMMARY:CHRISTINE AND THE QUEENS
CLASS:PUBLIC
TRANSP:TRANSPARENT
END:VEVENT
END:VCALENDAR