BEGIN:VCALENDAR
VERSION:2.0
PRODID:ROCKHAL
BEGIN:VEVENT
UID:4193
DTSTAMP:20150306T203000
DTSTART:20150306T203000
DTEND:20150307T000000
SUMMARY:CORBI "DE GËLLENE STULL" ALBUM RELEASE
CLASS:PUBLIC
TRANSP:TRANSPARENT
END:VEVENT
END:VCALENDAR