BEGIN:VCALENDAR
VERSION:2.0
PRODID:ROCKHAL
BEGIN:VEVENT
UID:6382
DTSTAMP:20220626T190000
DTSTART:20220626T190000
DTEND:20220626T223000
SUMMARY:GORILLAZ
CLASS:PUBLIC
TRANSP:TRANSPARENT
END:VEVENT
END:VCALENDAR