BEGIN:VCALENDAR
VERSION:2.0
PRODID:ROCKHAL
BEGIN:VEVENT
UID:4155
DTSTAMP:20150316T200000
DTSTART:20150316T200000
DTEND:20150316T233000
SUMMARY:JOSEF SALVAT
CLASS:PUBLIC
TRANSP:TRANSPARENT
END:VEVENT
END:VCALENDAR