BEGIN:VCALENDAR
VERSION:2.0
PRODID:ROCKHAL
BEGIN:VEVENT
UID:4263
DTSTAMP:20150426T200000
DTSTART:20150426T200000
DTEND:20150426T233000
SUMMARY:KINGS OF CONVENIENCE perform Quiet Is The New Loud Plus book launch and interview
CLASS:PUBLIC
TRANSP:TRANSPARENT
END:VEVENT
END:VCALENDAR