BEGIN:VCALENDAR
VERSION:2.0
PRODID:ROCKHAL
BEGIN:VEVENT
UID:3802
DTSTAMP:20141209T190000
DTSTART:20141209T190000
DTEND:20141209T223000
SUMMARY:LENNY KRAVITZ
CLASS:PUBLIC
TRANSP:TRANSPARENT
END:VEVENT
END:VCALENDAR