BEGIN:VCALENDAR
VERSION:2.0
PRODID:ROCKHAL
BEGIN:VEVENT
UID:3912
DTSTAMP:20150215T190000
DTSTART:20150215T190000
DTEND:20150215T223000
SUMMARY:MILKY CHANCE EUROPEAN TOUR 2015
CLASS:PUBLIC
TRANSP:TRANSPARENT
END:VEVENT
END:VCALENDAR