BEGIN:VCALENDAR
VERSION:2.0
PRODID:ROCKHAL
BEGIN:VEVENT
UID:3964
DTSTAMP:20150322T190000
DTSTART:20150322T190000
DTEND:20150322T223000
SUMMARY:SPANDAU BALLET
CLASS:PUBLIC
TRANSP:TRANSPARENT
END:VEVENT
END:VCALENDAR