BEGIN:VCALENDAR
VERSION:2.0
PRODID:ROCKHAL
BEGIN:VEVENT
UID:3904
DTSTAMP:20150315T200000
DTSTART:20150315T200000
DTEND:20150315T233000
SUMMARY:THE SUBWAYS
CLASS:PUBLIC
TRANSP:TRANSPARENT
END:VEVENT
END:VCALENDAR