BEGIN:VCALENDAR
VERSION:2.0
PRODID:ROCKHAL
BEGIN:VEVENT
UID:4012
DTSTAMP:20150120T203000
DTSTART:20150120T203000
DTEND:20150121T000000
SUMMARY:WHEN ‘AIRY MET FAIRY - 'THE BREACH' ALBUM RELEASE
CLASS:PUBLIC
TRANSP:TRANSPARENT
END:VEVENT
END:VCALENDAR