BEGIN:VCALENDAR
VERSION:2.0
PRODID:ROCKHAL
BEGIN:VEVENT
UID:4028
DTSTAMP:20150305T190000
DTSTART:20150305T190000
DTEND:20150305T223000
SUMMARY:WITHIN TEMPTATION
CLASS:PUBLIC
TRANSP:TRANSPARENT
END:VEVENT
END:VCALENDAR