BEGIN:VCALENDAR
VERSION:2.0
PRODID:ROCKHAL
BEGIN:VEVENT
UID:6292
DTSTAMP:20210709T200000
DTSTART:20210709T200000
DTEND:20210709T233000
SUMMARY:AGNES OBEL
CLASS:PUBLIC
TRANSP:TRANSPARENT
END:VEVENT
END:VCALENDAR