BEGIN:VCALENDAR
VERSION:2.0
PRODID:ROCKHAL
BEGIN:VEVENT
UID:6328
DTSTAMP:20210716T190000
DTSTART:20210716T190000
DTEND:20210716T223000
SUMMARY:ALICIA KEYS
CLASS:PUBLIC
TRANSP:TRANSPARENT
END:VEVENT
END:VCALENDAR