BEGIN:VCALENDAR
VERSION:2.0
PRODID:ROCKHAL
BEGIN:VEVENT
UID:6470
DTSTAMP:20221122T190000
DTSTART:20221122T190000
DTEND:20221122T223000
SUMMARY:BILLY TALENT
CLASS:PUBLIC
TRANSP:TRANSPARENT
END:VEVENT
END:VCALENDAR